Package: GSEABase Version: 1.54.0 Command: /Library/Frameworks/R.framework/Versions/Current/Resources/bin/R CMD INSTALL GSEABase StartedAt: 2021-10-14 09:22:12 -0400 (Thu, 14 Oct 2021) EndedAt: 2021-10-14 09:23:06 -0400 (Thu, 14 Oct 2021) EllapsedTime: 53.7 seconds RetCode: 0 Status: OK