Package: GSEABase Version: 1.54.0 Command: /home/biocbuild/bbs-3.13-bioc/R/bin/R CMD check --install=check:GSEABase.install-out.txt --library=/home/biocbuild/bbs-3.13-bioc/R/library --no-vignettes --timings GSEABase_1.54.0.tar.gz StartedAt: 2021-10-14 10:06:19 -0400 (Thu, 14 Oct 2021) EndedAt: 2021-10-14 10:08:35 -0400 (Thu, 14 Oct 2021) EllapsedTime: 135.4 seconds RetCode: 0 Status: OK CheckDir: GSEABase.Rcheck Warnings: 0