Package: GSEABase Version: 1.54.0 Command: /home/biocbuild/bbs-3.13-bioc/R/bin/R CMD INSTALL GSEABase StartedAt: 2021-10-14 06:16:10 -0400 (Thu, 14 Oct 2021) EndedAt: 2021-10-14 06:16:28 -0400 (Thu, 14 Oct 2021) EllapsedTime: 17.5 seconds RetCode: 0 Status: OK