Package: GSEAlm Version: 1.52.0 Command: rm -rf GSEAlm.buildbin-libdir && mkdir GSEAlm.buildbin-libdir && /Users/biocbuild/BBS/utils/build-universal.sh GSEAlm_1.52.0.tar.gz /Library/Frameworks/R.framework/Versions/Current/Resources/bin/R GSEAlm.buildbin-libdir StartedAt: 2021-10-15 02:40:08 -0400 (Fri, 15 Oct 2021) EndedAt: 2021-10-15 02:41:07 -0400 (Fri, 15 Oct 2021) EllapsedTime: 59.4 seconds RetCode: 0 Status: OK PackageFile: GSEAlm_1.52.0.tgz PackageFileSize: 1020 KiB