Package: GUIDEseq Version: 1.22.0 Command: /home/biocbuild/bbs-3.13-bioc/R/bin/R CMD build --keep-empty-dirs --no-resave-data GUIDEseq StartedAt: 2021-10-14 07:26:01 -0400 (Thu, 14 Oct 2021) EndedAt: 2021-10-14 07:27:36 -0400 (Thu, 14 Oct 2021) EllapsedTime: 95.4 seconds RetCode: 0 Status: OK PackageFile: GUIDEseq_1.22.0.tar.gz PackageFileSize: 4.547 MiB