Package: GeneRegionScan Version: 1.48.0 Command: /Library/Frameworks/R.framework/Versions/Current/Resources/bin/R CMD build --keep-empty-dirs --no-resave-data GeneRegionScan StartedAt: 2021-10-14 12:14:15 -0400 (Thu, 14 Oct 2021) EndedAt: 2021-10-14 12:15:01 -0400 (Thu, 14 Oct 2021) EllapsedTime: 46.3 seconds RetCode: 0 Status: OK PackageFile: GeneRegionScan_1.48.0.tar.gz PackageFileSize: 7.453 MiB