Package: GeneRegionScan Version: 1.48.0 Command: /home/biocbuild/bbs-3.13-bioc/R/bin/R CMD check --install=check:GeneRegionScan.install-out.txt --library=/home/biocbuild/bbs-3.13-bioc/R/library --no-vignettes --timings GeneRegionScan_1.48.0.tar.gz StartedAt: 2021-10-14 09:57:24 -0400 (Thu, 14 Oct 2021) EndedAt: 2021-10-14 09:59:31 -0400 (Thu, 14 Oct 2021) EllapsedTime: 127.7 seconds RetCode: 0 Status: OK CheckDir: GeneRegionScan.Rcheck Warnings: 0