Package: GeneSelectMMD Version: 2.36.0 Command: chmod a+r GeneSelectMMD -R && C:\Users\biocbuild\bbs-3.13-bioc\R\bin\R.exe CMD build --keep-empty-dirs --no-resave-data GeneSelectMMD StartedAt: 2021-10-14 14:24:24 -0400 (Thu, 14 Oct 2021) EndedAt: 2021-10-14 14:25:40 -0400 (Thu, 14 Oct 2021) EllapsedTime: 76.8 seconds RetCode: 0 Status: OK PackageFile: GeneSelectMMD_2.36.0.tar.gz PackageFileSize: 354.4 KiB