Package: GeneSelectMMD Version: 2.36.0 Command: C:\cygwin\bin\curl.exe -O http://155.52.207.165/BBS/3.13/bioc/src/contrib/GeneSelectMMD_2.36.0.tar.gz && rm -rf GeneSelectMMD.buildbin-libdir && mkdir GeneSelectMMD.buildbin-libdir && C:\Users\biocbuild\bbs-3.13-bioc\R\bin\R.exe CMD INSTALL --merge-multiarch --build --library=GeneSelectMMD.buildbin-libdir GeneSelectMMD_2.36.0.tar.gz && C:\Users\biocbuild\bbs-3.13-bioc\R\bin\R.exe CMD INSTALL GeneSelectMMD_2.36.0.zip && rm GeneSelectMMD_2.36.0.tar.gz GeneSelectMMD_2.36.0.zip StartedAt: 2021-10-14 07:53:57 -0400 (Thu, 14 Oct 2021) EndedAt: 2021-10-14 07:54:53 -0400 (Thu, 14 Oct 2021) EllapsedTime: 56.1 seconds RetCode: 0 Status: OK