git_url: https://git.bioconductor.org/packages/GeneticsPed git_branch: RELEASE_3_13 git_last_commit: aa226f9 git_last_commit_date: 2021-05-19 11:39:03 -0400 (Wed, 19 May 2021) Package: GeneticsPed Version: 1.54.0 Maintainer: David Henderson MaintainerEmail: DNADavenator at GMail.Com