Package: GeneticsPed Version: 1.54.0 Command: rm -rf GeneticsPed.buildbin-libdir && mkdir GeneticsPed.buildbin-libdir && /Users/biocbuild/BBS/utils/build-universal.sh GeneticsPed_1.54.0.tar.gz /Library/Frameworks/R.framework/Versions/Current/Resources/bin/R GeneticsPed.buildbin-libdir StartedAt: 2021-10-15 02:32:19 -0400 (Fri, 15 Oct 2021) EndedAt: 2021-10-15 02:33:23 -0400 (Fri, 15 Oct 2021) EllapsedTime: 64.2 seconds RetCode: 0 Status: OK PackageFile: GeneticsPed_1.54.0.tgz PackageFileSize: 647.6 KiB