Package: GeneticsPed Version: 1.54.0 Command: C:\Users\biocbuild\bbs-3.13-bioc\R\bin\R.exe CMD check --force-multiarch --install=check:GeneticsPed.install-out.txt --library=C:\Users\biocbuild\bbs-3.13-bioc\R\library --no-vignettes --timings GeneticsPed_1.54.0.tar.gz StartedAt: 2021-10-14 23:34:06 -0400 (Thu, 14 Oct 2021) EndedAt: 2021-10-14 23:35:12 -0400 (Thu, 14 Oct 2021) EllapsedTime: 66.1 seconds RetCode: 0 Status: OK CheckDir: GeneticsPed.Rcheck Warnings: 0