Package: GeneticsPed Version: 1.54.0 Command: C:\cygwin\bin\curl.exe -O http://155.52.207.165/BBS/3.13/bioc/src/contrib/GeneticsPed_1.54.0.tar.gz && rm -rf GeneticsPed.buildbin-libdir && mkdir GeneticsPed.buildbin-libdir && C:\Users\biocbuild\bbs-3.13-bioc\R\bin\R.exe CMD INSTALL --merge-multiarch --build --library=GeneticsPed.buildbin-libdir GeneticsPed_1.54.0.tar.gz && C:\Users\biocbuild\bbs-3.13-bioc\R\bin\R.exe CMD INSTALL GeneticsPed_1.54.0.zip && rm GeneticsPed_1.54.0.tar.gz GeneticsPed_1.54.0.zip StartedAt: 2021-10-14 07:04:15 -0400 (Thu, 14 Oct 2021) EndedAt: 2021-10-14 07:05:18 -0400 (Thu, 14 Oct 2021) EllapsedTime: 62.8 seconds RetCode: 0 Status: OK