Package: GenoGAM Version: 2.10.0 Command: /Library/Frameworks/R.framework/Versions/Current/Resources/bin/R CMD build --keep-empty-dirs --no-resave-data GenoGAM StartedAt: 2021-10-14 12:15:17 -0400 (Thu, 14 Oct 2021) EndedAt: 2021-10-14 12:17:11 -0400 (Thu, 14 Oct 2021) EllapsedTime: 113.7 seconds RetCode: 1 Status: ERROR PackageFile: None PackageFileSize: NA