Package: GenomicDataCommons Version: 1.16.0 Command: rm -rf GenomicDataCommons.buildbin-libdir && mkdir GenomicDataCommons.buildbin-libdir && /Users/biocbuild/BBS/utils/build-universal.sh GenomicDataCommons_1.16.0.tar.gz /Library/Frameworks/R.framework/Versions/Current/Resources/bin/R GenomicDataCommons.buildbin-libdir StartedAt: 2021-10-15 02:33:12 -0400 (Fri, 15 Oct 2021) EndedAt: 2021-10-15 02:34:17 -0400 (Fri, 15 Oct 2021) EllapsedTime: 64.5 seconds RetCode: 0 Status: OK PackageFile: GenomicDataCommons_1.16.0.tgz PackageFileSize: 1.029 MiB