Package: GenomicDataCommons Version: 1.16.0 Command: /Library/Frameworks/R.framework/Versions/Current/Resources/bin/R CMD build --keep-empty-dirs --no-resave-data GenomicDataCommons StartedAt: 2021-10-14 12:15:49 -0400 (Thu, 14 Oct 2021) EndedAt: 2021-10-14 12:17:05 -0400 (Thu, 14 Oct 2021) EllapsedTime: 75.7 seconds RetCode: 0 Status: OK PackageFile: GenomicDataCommons_1.16.0.tar.gz PackageFileSize: 1.389 MiB