Package: GenomicDataCommons Version: 1.16.0 Command: /Library/Frameworks/R.framework/Versions/Current/Resources/bin/R CMD check --install=check:GenomicDataCommons.install-out.txt --library=/Library/Frameworks/R.framework/Versions/Current/Resources/library --no-vignettes --timings GenomicDataCommons_1.16.0.tar.gz StartedAt: 2021-10-14 19:24:26 -0400 (Thu, 14 Oct 2021) EndedAt: 2021-10-14 19:27:57 -0400 (Thu, 14 Oct 2021) EllapsedTime: 210.9 seconds RetCode: 0 Status: WARNINGS CheckDir: GenomicDataCommons.Rcheck Warnings: 3