Package: GenomicDataCommons Version: 1.16.0 Command: /home/biocbuild/bbs-3.13-bioc/R/bin/R CMD build --keep-empty-dirs --no-resave-data GenomicDataCommons StartedAt: 2021-10-14 07:20:26 -0400 (Thu, 14 Oct 2021) EndedAt: 2021-10-14 07:21:26 -0400 (Thu, 14 Oct 2021) EllapsedTime: 59.9 seconds RetCode: 0 Status: OK PackageFile: GenomicDataCommons_1.16.0.tar.gz PackageFileSize: 1.387 MiB