Package: GenomicDataCommons Version: 1.16.0 Command: /home/biocbuild/bbs-3.13-bioc/R/bin/R CMD check --install=check:GenomicDataCommons.install-out.txt --library=/home/biocbuild/bbs-3.13-bioc/R/library --no-vignettes --timings GenomicDataCommons_1.16.0.tar.gz StartedAt: 2021-10-14 09:58:32 -0400 (Thu, 14 Oct 2021) EndedAt: 2021-10-14 10:00:57 -0400 (Thu, 14 Oct 2021) EllapsedTime: 144.6 seconds RetCode: 0 Status: WARNINGS CheckDir: GenomicDataCommons.Rcheck Warnings: 3