Package: GenomicDataCommons Version: 1.16.0 Command: chmod a+r GenomicDataCommons -R && C:\Users\biocbuild\bbs-3.13-bioc\R\bin\R.exe CMD build --keep-empty-dirs --no-resave-data GenomicDataCommons StartedAt: 2021-10-14 14:26:33 -0400 (Thu, 14 Oct 2021) EndedAt: 2021-10-14 14:28:08 -0400 (Thu, 14 Oct 2021) EllapsedTime: 95.2 seconds RetCode: 0 Status: OK PackageFile: GenomicDataCommons_1.16.0.tar.gz PackageFileSize: 1.382 MiB