Package: GenomicFiles Version: 1.28.0 Command: /home/biocbuild/bbs-3.13-bioc/R/bin/R CMD build --keep-empty-dirs --no-resave-data GenomicFiles StartedAt: 2021-10-14 07:20:29 -0400 (Thu, 14 Oct 2021) EndedAt: 2021-10-14 07:21:40 -0400 (Thu, 14 Oct 2021) EllapsedTime: 71.0 seconds RetCode: 0 Status: OK PackageFile: GenomicFiles_1.28.0.tar.gz PackageFileSize: 667.3 KiB