git_url: https://git.bioconductor.org/packages/GeomxTools git_branch: RELEASE_3_13 git_last_commit: 2462584 git_last_commit_date: 2021-05-19 12:59:20 -0400 (Wed, 19 May 2021) Package: GeomxTools Version: 1.0.0 Maintainer: Nicole Ortogero MaintainerEmail: nortogero at nanostring.com