Package: Glimma Version: 2.2.0 Command: /home/biocbuild/bbs-3.13-bioc/R/bin/R CMD build --keep-empty-dirs --no-resave-data Glimma StartedAt: 2021-10-14 07:22:23 -0400 (Thu, 14 Oct 2021) EndedAt: 2021-10-14 07:23:30 -0400 (Thu, 14 Oct 2021) EllapsedTime: 66.6 seconds RetCode: 0 Status: OK PackageFile: Glimma_2.2.0.tar.gz PackageFileSize: 8.69 MiB