Package: Glimma Version: 2.2.0 Command: rm -rf Glimma.buildbin-libdir && mkdir Glimma.buildbin-libdir && C:\Users\biocbuild\bbs-3.13-bioc\R\bin\R.exe CMD INSTALL --merge-multiarch --build --library=Glimma.buildbin-libdir Glimma_2.2.0.tar.gz StartedAt: 2021-10-15 09:36:55 -0400 (Fri, 15 Oct 2021) EndedAt: 2021-10-15 09:38:25 -0400 (Fri, 15 Oct 2021) EllapsedTime: 89.8 seconds RetCode: 0 Status: OK PackageFile: Glimma_2.2.0.zip PackageFileSize: 7.279 MiB