git_url: https://git.bioconductor.org/packages/GlobalAncova git_branch: RELEASE_3_13 git_last_commit: 4854ac8 git_last_commit_date: 2021-05-19 11:36:25 -0400 (Wed, 19 May 2021) Package: GlobalAncova Version: 4.10.0 Maintainer: Manuela Hummel MaintainerEmail: manuela.hummel at web.de