Package: GlobalAncova Version: 4.10.0 Command: /Library/Frameworks/R.framework/Versions/Current/Resources/bin/R CMD build --keep-empty-dirs --no-resave-data GlobalAncova StartedAt: 2021-10-14 12:20:13 -0400 (Thu, 14 Oct 2021) EndedAt: 2021-10-14 12:29:04 -0400 (Thu, 14 Oct 2021) EllapsedTime: 531.9 seconds RetCode: 0 Status: OK PackageFile: GlobalAncova_4.10.0.tar.gz PackageFileSize: 1.024 MiB