Package: GlobalAncova Version: 4.10.0 Command: /Library/Frameworks/R.framework/Versions/Current/Resources/bin/R CMD check --install=check:GlobalAncova.install-out.txt --library=/Library/Frameworks/R.framework/Versions/Current/Resources/library --no-vignettes --timings GlobalAncova_4.10.0.tar.gz StartedAt: 2021-10-14 19:37:25 -0400 (Thu, 14 Oct 2021) EndedAt: 2021-10-14 19:41:00 -0400 (Thu, 14 Oct 2021) EllapsedTime: 215.0 seconds RetCode: 0 Status: OK CheckDir: GlobalAncova.Rcheck Warnings: 0