Package: GlobalAncova Version: 4.10.0 Command: /home/biocbuild/bbs-3.13-bioc/R/bin/R CMD check --install=check:GlobalAncova.install-out.txt --library=/home/biocbuild/bbs-3.13-bioc/R/library --no-vignettes --timings GlobalAncova_4.10.0.tar.gz StartedAt: 2021-10-14 10:02:21 -0400 (Thu, 14 Oct 2021) EndedAt: 2021-10-14 10:04:49 -0400 (Thu, 14 Oct 2021) EllapsedTime: 147.9 seconds RetCode: 0 Status: OK CheckDir: GlobalAncova.Rcheck Warnings: 0