git_url: https://git.bioconductor.org/packages/GmicR git_branch: RELEASE_3_13 git_last_commit: 1f79941 git_last_commit_date: 2021-05-19 12:46:39 -0400 (Wed, 19 May 2021) Package: GmicR Version: 1.6.0 Maintainer: Richard Virgen-Slane MaintainerEmail: RVS.BioTools at gmail.com