Package: GmicR Version: 1.6.0 Command: /home/biocbuild/bbs-3.13-bioc/R/bin/R CMD build --keep-empty-dirs --no-resave-data GmicR StartedAt: 2021-10-14 07:22:44 -0400 (Thu, 14 Oct 2021) EndedAt: 2021-10-14 07:34:47 -0400 (Thu, 14 Oct 2021) EllapsedTime: 723.8 seconds RetCode: 0 Status: OK PackageFile: GmicR_1.6.0.tar.gz PackageFileSize: 3.457 MiB