Package: GmicR Version: 1.6.0 Command: chmod a+r GmicR -R && C:\Users\biocbuild\bbs-3.13-bioc\R\bin\R.exe CMD build --keep-empty-dirs --no-resave-data GmicR StartedAt: 2021-10-14 14:33:51 -0400 (Thu, 14 Oct 2021) EndedAt: 2021-10-14 14:44:54 -0400 (Thu, 14 Oct 2021) EllapsedTime: 662.9 seconds RetCode: 0 Status: OK PackageFile: GmicR_1.6.0.tar.gz PackageFileSize: 3.4 MiB