Package: GraphAlignment Version: 1.56.0 Command: chmod a+r GraphAlignment -R && C:\Users\biocbuild\bbs-3.13-bioc\R\bin\R.exe CMD build --keep-empty-dirs --no-resave-data GraphAlignment StartedAt: 2021-10-14 14:39:40 -0400 (Thu, 14 Oct 2021) EndedAt: 2021-10-14 14:39:57 -0400 (Thu, 14 Oct 2021) EllapsedTime: 16.7 seconds RetCode: 0 Status: OK PackageFile: GraphAlignment_1.56.0.tar.gz PackageFileSize: 433.9 KiB