Package: GraphPAC Version: 1.34.0 Command: C:\Users\biocbuild\bbs-3.13-bioc\R\bin\R.exe CMD check --force-multiarch --install=check:GraphPAC.install-out.txt --library=C:\Users\biocbuild\bbs-3.13-bioc\R\library --no-vignettes --timings GraphPAC_1.34.0.tar.gz StartedAt: 2021-10-15 00:05:20 -0400 (Fri, 15 Oct 2021) EndedAt: 2021-10-15 00:08:04 -0400 (Fri, 15 Oct 2021) EllapsedTime: 164.7 seconds RetCode: 0 Status: OK CheckDir: GraphPAC.Rcheck Warnings: 0