Package: HCAExplorer Version: 1.6.0 Command: /home/biocbuild/bbs-3.13-bioc/R/bin/R CMD INSTALL HCAExplorer StartedAt: 2021-10-14 06:20:35 -0400 (Thu, 14 Oct 2021) EndedAt: 2021-10-14 06:21:01 -0400 (Thu, 14 Oct 2021) EllapsedTime: 25.5 seconds RetCode: 0 Status: OK