Package: HCAMatrixBrowser Version: 1.2.0 Command: chmod a+r HCAMatrixBrowser -R && C:\Users\biocbuild\bbs-3.13-bioc\R\bin\R.exe CMD build --keep-empty-dirs --no-resave-data HCAMatrixBrowser StartedAt: 2021-10-14 14:50:13 -0400 (Thu, 14 Oct 2021) EndedAt: 2021-10-14 14:50:51 -0400 (Thu, 14 Oct 2021) EllapsedTime: 37.9 seconds RetCode: 1 Status: ERROR PackageFile: None PackageFileSize: NA