git_url: https://git.bioconductor.org/packages/HDF5Array git_branch: RELEASE_3_13 git_last_commit: 8804048 git_last_commit_date: 2021-05-19 12:18:24 -0400 (Wed, 19 May 2021) Package: HDF5Array Version: 1.20.0 Maintainer: Hervé Pagès MaintainerEmail: hpages.on.github at gmail.com