Package: HDF5Array Version: 1.20.0 Command: /Library/Frameworks/R.framework/Versions/Current/Resources/bin/R CMD INSTALL HDF5Array StartedAt: 2021-10-14 09:04:15 -0400 (Thu, 14 Oct 2021) EndedAt: 2021-10-14 09:05:09 -0400 (Thu, 14 Oct 2021) EllapsedTime: 54.3 seconds RetCode: 0 Status: OK