Package: HDTD Version: 1.26.0 Command: rm -rf HDTD.buildbin-libdir && mkdir HDTD.buildbin-libdir && /Users/biocbuild/BBS/utils/build-universal.sh HDTD_1.26.0.tar.gz /Library/Frameworks/R.framework/Versions/Current/Resources/bin/R HDTD.buildbin-libdir StartedAt: 2021-10-15 02:42:02 -0400 (Fri, 15 Oct 2021) EndedAt: 2021-10-15 02:43:08 -0400 (Fri, 15 Oct 2021) EllapsedTime: 66.0 seconds RetCode: 0 Status: OK PackageFile: HDTD_1.26.0.tgz PackageFileSize: 310.5 KiB