Package: HDTD Version: 1.26.0 Command: /Library/Frameworks/R.framework/Versions/Current/Resources/bin/R CMD build --keep-empty-dirs --no-resave-data HDTD StartedAt: 2021-10-14 12:34:13 -0400 (Thu, 14 Oct 2021) EndedAt: 2021-10-14 12:34:55 -0400 (Thu, 14 Oct 2021) EllapsedTime: 41.4 seconds RetCode: 0 Status: OK PackageFile: HDTD_1.26.0.tar.gz PackageFileSize: 162.7 KiB