git_url: https://git.bioconductor.org/packages/HIBAG git_branch: RELEASE_3_13 git_last_commit: dead91d git_last_commit_date: 2021-05-19 12:11:05 -0400 (Wed, 19 May 2021) Package: HIBAG Version: 1.28.0 Maintainer: Xiuwen Zheng MaintainerEmail: zhengx at u.washington.edu