Package: HIBAG Version: 1.28.0 Command: /Library/Frameworks/R.framework/Versions/Current/Resources/bin/R CMD check --install=check:HIBAG.install-out.txt --library=/Library/Frameworks/R.framework/Versions/Current/Resources/library --no-vignettes --timings HIBAG_1.28.0.tar.gz StartedAt: 2021-10-14 19:57:21 -0400 (Thu, 14 Oct 2021) EndedAt: 2021-10-14 19:59:13 -0400 (Thu, 14 Oct 2021) EllapsedTime: 112.0 seconds RetCode: 0 Status: OK CheckDir: HIBAG.Rcheck Warnings: 0