Package: HIBAG Version: 1.28.0 Command: /home/biocbuild/bbs-3.13-bioc/R/bin/R CMD build --keep-empty-dirs --no-resave-data HIBAG StartedAt: 2021-10-14 07:27:55 -0400 (Thu, 14 Oct 2021) EndedAt: 2021-10-14 07:28:37 -0400 (Thu, 14 Oct 2021) EllapsedTime: 42.7 seconds RetCode: 0 Status: OK PackageFile: HIBAG_1.28.0.tar.gz PackageFileSize: 1.584 MiB