Package: HIBAG Version: 1.28.0 Command: /home/biocbuild/bbs-3.13-bioc/R/bin/R CMD check --install=check:HIBAG.install-out.txt --library=/home/biocbuild/bbs-3.13-bioc/R/library --no-vignettes --timings HIBAG_1.28.0.tar.gz StartedAt: 2021-10-14 10:09:53 -0400 (Thu, 14 Oct 2021) EndedAt: 2021-10-14 10:10:53 -0400 (Thu, 14 Oct 2021) EllapsedTime: 60.0 seconds RetCode: 0 Status: OK CheckDir: HIBAG.Rcheck Warnings: 0