Package: HIBAG Version: 1.28.0 Command: /home/biocbuild/bbs-3.13-bioc/R/bin/R CMD INSTALL HIBAG StartedAt: 2021-10-14 06:02:18 -0400 (Thu, 14 Oct 2021) EndedAt: 2021-10-14 06:02:38 -0400 (Thu, 14 Oct 2021) EllapsedTime: 19.6 seconds RetCode: 0 Status: OK