Package: HIBAG Version: 1.28.0 Command: rm -rf HIBAG.buildbin-libdir && mkdir HIBAG.buildbin-libdir && C:\Users\biocbuild\bbs-3.13-bioc\R\bin\R.exe CMD INSTALL --merge-multiarch --build --library=HIBAG.buildbin-libdir HIBAG_1.28.0.tar.gz StartedAt: 2021-10-15 09:47:24 -0400 (Fri, 15 Oct 2021) EndedAt: 2021-10-15 09:48:57 -0400 (Fri, 15 Oct 2021) EllapsedTime: 92.8 seconds RetCode: 0 Status: OK PackageFile: HIBAG_1.28.0.zip PackageFileSize: 2.44 MiB