Package: HIBAG Version: 1.28.0 Command: chmod a+r HIBAG -R && C:\Users\biocbuild\bbs-3.13-bioc\R\bin\R.exe CMD build --keep-empty-dirs --no-resave-data HIBAG StartedAt: 2021-10-14 14:51:49 -0400 (Thu, 14 Oct 2021) EndedAt: 2021-10-14 14:53:59 -0400 (Thu, 14 Oct 2021) EllapsedTime: 130.0 seconds RetCode: 0 Status: OK PackageFile: HIBAG_1.28.0.tar.gz PackageFileSize: 1.272 MiB