Package: HIBAG Version: 1.28.0 Command: C:\Users\biocbuild\bbs-3.13-bioc\R\bin\R.exe CMD check --force-multiarch --install=check:HIBAG.install-out.txt --library=C:\Users\biocbuild\bbs-3.13-bioc\R\library --no-vignettes --timings HIBAG_1.28.0.tar.gz StartedAt: 2021-10-15 00:21:12 -0400 (Fri, 15 Oct 2021) EndedAt: 2021-10-15 00:24:00 -0400 (Fri, 15 Oct 2021) EllapsedTime: 168.1 seconds RetCode: 0 Status: OK CheckDir: HIBAG.Rcheck Warnings: 0