Package: HMMcopy Version: 1.34.0 Command: /Library/Frameworks/R.framework/Versions/Current/Resources/bin/R CMD INSTALL HMMcopy StartedAt: 2021-10-14 08:11:51 -0400 (Thu, 14 Oct 2021) EndedAt: 2021-10-14 08:12:36 -0400 (Thu, 14 Oct 2021) EllapsedTime: 44.8 seconds RetCode: 0 Status: OK