Package: HMMcopy Version: 1.34.0 Command: /home/biocbuild/bbs-3.13-bioc/R/bin/R CMD build --keep-empty-dirs --no-resave-data HMMcopy StartedAt: 2021-10-14 07:28:57 -0400 (Thu, 14 Oct 2021) EndedAt: 2021-10-14 07:29:11 -0400 (Thu, 14 Oct 2021) EllapsedTime: 14.4 seconds RetCode: 0 Status: OK PackageFile: HMMcopy_1.34.0.tar.gz PackageFileSize: 1.776 MiB