Package: HMMcopy Version: 1.34.0 Command: C:\Users\biocbuild\bbs-3.13-bioc\R\bin\R.exe CMD check --force-multiarch --install=check:HMMcopy.install-out.txt --library=C:\Users\biocbuild\bbs-3.13-bioc\R\library --no-vignettes --timings HMMcopy_1.34.0.tar.gz StartedAt: 2021-10-15 00:28:30 -0400 (Fri, 15 Oct 2021) EndedAt: 2021-10-15 00:29:39 -0400 (Fri, 15 Oct 2021) EllapsedTime: 69.1 seconds RetCode: 0 Status: WARNINGS CheckDir: HMMcopy.Rcheck Warnings: 1